BEGIN:VCALENDAR
VERSION:2.0
PRODID:-//Smart Buildings Center - ECPv6.15.20//NONSGML v1.0//EN
CALSCALE:GREGORIAN
METHOD:PUBLISH
X-ORIGINAL-URL:https://smartbuildingscenter.org
X-WR-CALDESC:Events for Smart Buildings Center
REFRESH-INTERVAL;VALUE=DURATION:PT1H
X-Robots-Tag:noindex
X-PUBLISHED-TTL:PT1H
BEGIN:VTIMEZONE
TZID:America/Los_Angeles
BEGIN:DAYLIGHT
TZOFFSETFROM:-0800
TZOFFSETTO:-0700
TZNAME:PDT
DTSTART:20190310T100000
END:DAYLIGHT
BEGIN:STANDARD
TZOFFSETFROM:-0700
TZOFFSETTO:-0800
TZNAME:PST
DTSTART:20191103T090000
END:STANDARD
BEGIN:DAYLIGHT
TZOFFSETFROM:-0800
TZOFFSETTO:-0700
TZNAME:PDT
DTSTART:20200308T100000
END:DAYLIGHT
BEGIN:STANDARD
TZOFFSETFROM:-0700
TZOFFSETTO:-0800
TZNAME:PST
DTSTART:20201101T090000
END:STANDARD
BEGIN:DAYLIGHT
TZOFFSETFROM:-0800
TZOFFSETTO:-0700
TZNAME:PDT
DTSTART:20210314T100000
END:DAYLIGHT
BEGIN:STANDARD
TZOFFSETFROM:-0700
TZOFFSETTO:-0800
TZNAME:PST
DTSTART:20211107T090000
END:STANDARD
BEGIN:DAYLIGHT
TZOFFSETFROM:-0800
TZOFFSETTO:-0700
TZNAME:PDT
DTSTART:20220313T100000
END:DAYLIGHT
BEGIN:STANDARD
TZOFFSETFROM:-0700
TZOFFSETTO:-0800
TZNAME:PST
DTSTART:20221106T090000
END:STANDARD
BEGIN:DAYLIGHT
TZOFFSETFROM:-0800
TZOFFSETTO:-0700
TZNAME:PDT
DTSTART:20230312T100000
END:DAYLIGHT
BEGIN:STANDARD
TZOFFSETFROM:-0700
TZOFFSETTO:-0800
TZNAME:PST
DTSTART:20231105T090000
END:STANDARD
BEGIN:DAYLIGHT
TZOFFSETFROM:-0800
TZOFFSETTO:-0700
TZNAME:PDT
DTSTART:20240310T100000
END:DAYLIGHT
BEGIN:STANDARD
TZOFFSETFROM:-0700
TZOFFSETTO:-0800
TZNAME:PST
DTSTART:20241103T090000
END:STANDARD
BEGIN:DAYLIGHT
TZOFFSETFROM:-0800
TZOFFSETTO:-0700
TZNAME:PDT
DTSTART:20250309T100000
END:DAYLIGHT
BEGIN:STANDARD
TZOFFSETFROM:-0700
TZOFFSETTO:-0800
TZNAME:PST
DTSTART:20251102T090000
END:STANDARD
END:VTIMEZONE
BEGIN:VEVENT
DTSTART;TZID=America/Los_Angeles:20240201T100000
DTEND;TZID=America/Los_Angeles:20240201T113000
DTSTAMP:20260421T040036
CREATED:20240130T043611Z
LAST-MODIFIED:20240130T043611Z
UID:10000322-1706781600-1706787000@smartbuildingscenter.org
SUMMARY:Seattle’s Building Emissions Performance Standard: What You Need to Know Now
DESCRIPTION:Start getting prepared for this new requirement! \nBEPS applies to existing nonresidential and multifamily buildings greater than 20\,000 square feet and sets carbon emissions targets that buildings must meet over time to reach net-zero emissions by 2050. Compliance starts with benchmarking data verification and emissions reporting requirements due starting in 2027 to encourage planning and action to meet first emissions targets by 2031-2035. \nJoin Nicole Ballinger from OSE for a webinar on Thursday\, February 1 from 10:00 to 11:30. Hosted by the Lighting Design Lab. \nLearn the basics of BEPS\, hear about 2024 rulemaking and program design planning\, and get a sneak peek into how to estimate a building’s emissions using a greenhouse gas intensity metric. Q and A to follow. \nRegister for the webinar
URL:https://smartbuildingscenter.org/remote-learning-event/seattles-building-emissions-performance-standard-what-you-need-to-know-now/
LOCATION:Virtual/Online
CATEGORIES:Benchmarking,Building operations,Building tune-ups,Decarbonization,Energy efficiency
END:VEVENT
BEGIN:VEVENT
DTSTART;TZID=America/Los_Angeles:20230323T120000
DTEND;TZID=America/Los_Angeles:20230323T130000
DTSTAMP:20260421T040036
CREATED:20230313T191055Z
LAST-MODIFIED:20230313T191055Z
UID:10000314-1679572800-1679576400@smartbuildingscenter.org
SUMMARY:Estimating Your Building’s Emissions and Draft Targets for the Proposed Seattle Building Emissions Performance Standards (BEPS)
DESCRIPTION:Are you new to understanding your building’s greenhouse gas emissions and want to learn some simple steps to understand your building’s climate impact? Join the Office of Sustainability & Environment (OSE) on this beginner-friendly webinar to learn how to quickly estimate and track your building’s current emissions using local utility emissions factors and ENERGY STAR Portfolio Manager data. Then learn how to estimate emissions reduction targets using details from the proposed BEPS policy. OSE will also provide a brief overview of the proposed BEPS policy and the current policy timeline. The presentation will be followed by an opportunity for comments and questions. This webinar is a follow-up to the online open houses and emissions targets analysis webinar last year. Recordings and slides from those events are available at www.seattle.gov/building-performance-standards. \nTranslation services are available upon request. Call (206) 233-7184 or email cleanbuildings@seattle.gov. \nAbout the Proposed Policy: Performance standards are a powerful tool to reduce climate pollution and transition toward cleaner\, healthier buildings where we live and work. The proposed BEPS policy is projected to reduce emissions from Seattle’s buildings (in total) 27% by 2050. This proposed policy would gradually phase out carbon pollution from existing nonresidential and multifamily buildings over 20\,000 sq. ft. through mandatory greenhouse gas (GHG) emissions targets beginning 2027 for the largest nonresidential buildings. Targets would become more stringent over time\, to net-zero GHG emissions by 2050. Visit www.seattle.gov/building-performance-standards for more information.
URL:https://smartbuildingscenter.org/remote-learning-event/estimating-your-buildings-emissions-and-draft-targets-for-the-proposed-seattle-building-emissions-performance-standards-beps/
LOCATION:Virtual/Online
CATEGORIES:Benchmarking,Building operations,Energy efficiency
END:VEVENT
BEGIN:VEVENT
DTSTART;TZID=America/Los_Angeles:20221101T110000
DTEND;TZID=America/Los_Angeles:20221101T110000
DTSTAMP:20260421T040036
CREATED:20221013T171720Z
LAST-MODIFIED:20221013T171720Z
UID:10000311-1667300400-1667300400@smartbuildingscenter.org
SUMMARY:Washington State Clean Buildings Performance Standard – What do installers\, vendors & building operators need to know?
DESCRIPTION:Description\nThis training will provide an introduction to the Washington State Clean Buildings Performance Standard (CBPS) and highlight tools and resources available to installers\, vendors\, and building operators to assist building owners with energy efficiency improvements that may be required for standard compliance. \nPresenter’s bio\nRebecca Sheppard is a Senior Project Manager at the Northwest Energy Efficiency Council and Smart Buildings Center. She holds an MBA\, is a Building Operator Certification (BOC) Level II graduate and has a certificate in Construction Management from the University of Washington. Throughout her career including her time as a Resource Conservation Manager\, she has worked on various building retrofit projects\, energy management and analysis\, project management\, and capital projects. \nSuccessful completion of the training provides 2 points towards maintaining your Building Operator Certification (BOC) Credential and .20 IACET CEU’s towards the renewal of other industry certifications\, certificates and licenses.
URL:https://smartbuildingscenter.org/remote-learning-event/washington-state-clean-buildings-performance-standard-what-do-installers-vendors-building-operators-need-to-know/
CATEGORIES:Benchmarking,Building operations,Building tune-ups,Energy efficiency
ORGANIZER;CN="Smart Buildings Center":MAILTO:info@smartbuildingscenter.org
END:VEVENT
BEGIN:VEVENT
DTSTART;TZID=America/Los_Angeles:20221025T120000
DTEND;TZID=America/Los_Angeles:20221025T130000
DTSTAMP:20260421T040036
CREATED:20221013T171918Z
LAST-MODIFIED:20221013T171918Z
UID:10000312-1666699200-1666702800@smartbuildingscenter.org
SUMMARY:Draft Emissions Targets for Seattle Building Performance Standards
DESCRIPTION:Join the Office of Sustainability & Environment (OSE) for a technical webinar at which OSE and SBW Consulting will share the draft greenhouse gas intensity targets under consideration and the analysis conducted to inform the targets. Presentations will be followed by the opportunity for comments and questions. OSE will also provide a brief overview of the proposed policy and the updated timeline. \nThis webinar is a follow-up to open houses in April and June that provided detailed background and the draft policy framework. Recordings and slides from those events are available at www.seattle.gov/building-performance-standards. \n\nDate: October 25\, 2022 from 12:00pm to 1:00pm\nLocation: Online via Zoom\nPre-register here: https://us06web.zoom.us/webinar/register/WN_3nqYS-oWSo-v6_dCnCagNg\n\nThis webinar will be recorded and posted on the OSE website afterwards. \nAbout the Policy: Performance standards are a powerful tool to reduce climate pollution and transition toward cleaner\, healthier buildings where we live and work. This policy is projected to reduce emissions from Seattle’s buildings (in total) 27% by 2050. This policy would gradually phase out carbon pollution from existing nonresidential and multifamily buildings over 20\,000 sq. ft. through mandatory greenhouse gas (GHG) emissions targets beginning 2026 for the largest nonresidential buildings. Targets would become more stringent over time\, to net-zero GHG emissions by 2050. Visit www.seattle.gov/building-performance-standards for more information and timeline.
URL:https://smartbuildingscenter.org/remote-learning-event/draft-emissions-targets-for-seattle-building-performance-standards/
LOCATION:Virtual/Online
CATEGORIES:Benchmarking,Building operations,Building tune-ups,Energy efficiency
END:VEVENT
BEGIN:VEVENT
DTSTART;TZID=America/Los_Angeles:20211206T120000
DTEND;TZID=America/Los_Angeles:20211206T130000
DTSTAMP:20260421T040036
CREATED:20211103T230619Z
LAST-MODIFIED:20211103T230619Z
UID:10000187-1638792000-1638795600@smartbuildingscenter.org
SUMMARY:Whole Building Approaches for Efficiency and Electrification
DESCRIPTION:This one-hour webinar will highlight opportunities for addressing building energy use in new and existing buildings through increased efficiency and electrification. The webinar will begin with a preview of the draft ENERGY STAR Residential New Construction Label coming in 2022. This will be followed by an overview of Home Upgrade with ENERGY STAR\, which creates a streamlined approach to retrofitting existing homes. Finally\, attendees will hear from the DC Sustainable Energy Utility on their programs to support decarbonization of residential and commercial buildings\, including a low-income pilot program. \nSpeakers: \n\nAsa Foss – Program Development Analyst\, ENERGY STAR Residential Branch\, US EPA\nDan Lawlor − ENERGY STAR HVAC Program Lead\, US EPA\nPatti Boyd\, Senior Manager for Technology & Innovation\, DC Sustainability Energy Utility\n\nRegister
URL:https://smartbuildingscenter.org/remote-learning-event/whole-building-approaches-for-efficiency-and-electrification/
LOCATION:Virtual/Online
CATEGORIES:Benchmarking,Building operations,Building tune-ups,Energy efficiency
END:VEVENT
BEGIN:VEVENT
DTSTART;TZID=America/Los_Angeles:20211118T103000
DTEND;TZID=America/Los_Angeles:20211118T120000
DTSTAMP:20260421T040036
CREATED:20211028T030304Z
LAST-MODIFIED:20211028T030304Z
UID:10000186-1637231400-1637236800@smartbuildingscenter.org
SUMMARY:Understanding the Washington Clean Buildings Standard
DESCRIPTION:The Clean Buildings Act of 2019 is one measure Washington State is taking to improve building operational efficiency. Propelling buildings to targeted energy use intensity by building type and size\, all commercial buildings over 50\,000 sf will need to comply by 2028 (220\,000 sf by 2026)\, and then maintain compliance or be subject to penalties. \nUMC\, Hargis Engineers and the Northwest Energy Efficiency Council (NEEC) have joined forces to break down the Clean Buildings Standard’s options and implications so you can define a path forward that aligns with your portfolio. [AIA CEU HSW 1.5 Credit] \nVIRTUAL PRESENTATION | 10:30 am – 12:00 pm \nThursday\, November 18th – Seattle building focused discussion\, through the lens of the Seattle Energy Code and what’s next. \nREGISTER
URL:https://smartbuildingscenter.org/remote-learning-event/understanding-the-washington-clean-buildings-standard-2/
LOCATION:Virtual/Online
CATEGORIES:Benchmarking,Building operations,Building tune-ups,Energy efficiency
END:VEVENT
BEGIN:VEVENT
DTSTART;TZID=America/Los_Angeles:20211116T103000
DTEND;TZID=America/Los_Angeles:20211116T120000
DTSTAMP:20260421T040036
CREATED:20211028T030041Z
LAST-MODIFIED:20211028T030426Z
UID:10000185-1637058600-1637064000@smartbuildingscenter.org
SUMMARY:Understanding the Washington Clean Buildings Standard
DESCRIPTION:The Clean Buildings Act of 2019 is one measure Washington State is taking to improve building operational efficiency. Propelling buildings to targeted energy use intensity by building type and size\, all commercial buildings over 50\,000 sf will need to comply by 2028 (220\,000 sf by 2026)\, and then maintain compliance or be subject to penalties. \nUMC\, Hargis Engineers and the Northwest Energy Efficiency Council (NEEC) have joined forces to break down the Clean Buildings Standard’s options and implications so you can define a path forward that aligns with your portfolio. [AIA CEU HSW 1.5 Credit] \nVIRTUAL PRESENTATION | 10:30 am – 12:00 pm \nTuesday\, November 16th – Washington State Compliance + Panel Discussion \n\nRep. Alex Ramel\, Washington State House of Representatives\nAmy Wheeless\, Northwest Energy Coalition\nRon Major\, WA State Dept. of Enterprise Services\nPoppy Storm\, 2050 Institute\nModerator: Kerry Meade\, Northwest Energy Efficiency Council (NEEC)\n\nREGISTER
URL:https://smartbuildingscenter.org/remote-learning-event/understanding-the-washington-clean-buildings-standard/
LOCATION:Virtual/Online
CATEGORIES:Benchmarking,Building operations,Energy efficiency
END:VEVENT
BEGIN:VEVENT
DTSTART;TZID=America/Los_Angeles:20210824T084500
DTEND;TZID=America/Los_Angeles:20210825T141500
DTSTAMP:20260421T040036
CREATED:20210528T230054Z
LAST-MODIFIED:20210528T230054Z
UID:10000292-1629794700-1629900900@smartbuildingscenter.org
SUMMARY:Smart Buildings Exchange
DESCRIPTION:Throughout the built environment\, new technologies are connecting building systems and occupants in ways that generate new and exciting opportunities. From enabling buildings to perform for occupants and owners in previously unimaginable ways\, to leveraging buildings to accelerate smart cities and the clean energy transition for a cleaner and healthier planet\, the opportunities are countless and inspiring. The Smart Buildings Exchange brings together the key audiences to challenge the hype\, bear witness to the innovation\, and explore the business case for accelerating the adoption and commercialization of smart buildings technologies and practices.
URL:https://smartbuildingscenter.org/remote-learning-event/smart-buildings-exchange/
LOCATION:Virtual/Online
CATEGORIES:Benchmarking,Building operations,Building tune-ups,Demand response,Energy efficiency,Grid enabled buildings,Smart building technologies
ORGANIZER;CN="Smart Buildings Center":MAILTO:info@smartbuildingscenter.org
END:VEVENT
BEGIN:VEVENT
DTSTART;TZID=America/Los_Angeles:20210330T100000
DTEND;TZID=America/Los_Angeles:20210330T110000
DTSTAMP:20260421T040036
CREATED:20210104T225034Z
LAST-MODIFIED:20210104T225034Z
UID:10000171-1617098400-1617102000@smartbuildingscenter.org
SUMMARY:To Efficiency & Beyond! How to Benefit from Benchmarking Compliance with Strategies for Improving your Energy Performance
DESCRIPTION:Now that you’ve benchmarked and understand your results\, it’s time to work on improving your buildings energy performance. In this session\, you’ll learn about low-and-no-cost improvements that can help you reduce energy consumption and save money without significant capital investments. You’ll also learn about a variety of free ENERGY STAR resources that are available to help you improve your energy performance. Finally\, you’ll learn how to connect with service provider organizations that can help you achieve your energy efficiency goals and earn ENERGY STAR certification for your building. \nAttend this webinar if you’re interested in:\n• Low-and-no-cost energy efficiency improvements\n• ENERGY STAR program tools\, resources\, and additional training opportunities\n• Connecting with ENERGY STAR service providers \nLevel: Beginner and Intermediate
URL:https://smartbuildingscenter.org/remote-learning-event/to-efficiency-beyond-how-to-benefit-from-benchmarking-compliance-with-strategies-for-improving-your-energy-performance/
LOCATION:Virtual/Online
CATEGORIES:Benchmarking,Energy efficiency
END:VEVENT
BEGIN:VEVENT
DTSTART;TZID=America/Los_Angeles:20210224T100000
DTEND;TZID=America/Los_Angeles:20210224T110000
DTSTAMP:20260421T040036
CREATED:20210104T224904Z
LAST-MODIFIED:20210104T224904Z
UID:10000290-1614160800-1614164400@smartbuildingscenter.org
SUMMARY:Using Benchmarking Results to Understand your Building’s Performance
DESCRIPTION:Now that you’ve benchmarked\, what’s next? Join us to understand how to interpret your results and your building’s performance. Learn how you can take things to the next level with more insights into your building’s performance metrics\, and use your data to identify actionable energy and cost saving opportunities! \nAttend this webinar if you’re interested in:\n•Understanding building performance metrics including:\no The 1-to-100 ENERGY STAR score\no Energy use intensity\no Greenhouse gas emissions\n• How to check your building and energy data for errors\n• Using benchmarking data to develop an energy management plan \nLevel: Beginner
URL:https://smartbuildingscenter.org/remote-learning-event/using-benchmarking-results-to-understand-your-buildings-performance/
LOCATION:Virtual/Online
CATEGORIES:Benchmarking,Energy efficiency
END:VEVENT
BEGIN:VEVENT
DTSTART;TZID=America/Los_Angeles:20210216T100000
DTEND;TZID=America/Los_Angeles:20210216T110000
DTSTAMP:20260421T040036
CREATED:20210126T063505Z
LAST-MODIFIED:20210126T063505Z
UID:10000174-1613469600-1613473200@smartbuildingscenter.org
SUMMARY:Setting Performance Goals in Portfolio Manager
DESCRIPTION:While benchmarking is an important step towards reaching your energy efficiency and sustainability goals\, it’s just the beginning! This webinar will show you how EPA’s ENERGY STAR Portfolio Manager tool can be used to establish and track energy reduction goals across the buildings in your portfolio. \nAttend this webinar if you’re interested in:\n• Establishing building performance goals\n• Reporting and tracking progress \nWebinar Level: Beginner or Intermediate
URL:https://smartbuildingscenter.org/remote-learning-event/setting-performance-goals-in-portfolio-manager/
LOCATION:Virtual/Online
CATEGORIES:Benchmarking,Energy efficiency
END:VEVENT
BEGIN:VEVENT
DTSTART;TZID=America/Los_Angeles:20210211T100000
DTEND;TZID=America/Los_Angeles:20210211T110000
DTSTAMP:20260421T040036
CREATED:20210126T063352Z
LAST-MODIFIED:20210126T063352Z
UID:10000173-1613037600-1613041200@smartbuildingscenter.org
SUMMARY:Performance-based Targets for Commercial New Construction: The Building Owner’s Perspective
DESCRIPTION:This webinar will explore the growing trend of building owners/developers moving toward performance-based energy metrics for new construction projects to achieve superior performing buildings. It will highlight how target setting through an integrative design process and involving all building stakeholders can reduce costs and streamline decision making. \nPanelists will present the ENERGY STAR lifecycle approach to set energy design targets that inform operational performance (EPA)\, share experience in designing and implementing performance-based procurement programs through utility energy efficiency offerings (Slipstream)\, and discuss using energy use intensity targets to select design strategies from competing proposals and balancing aesthetics\, performance\, and budget\, while maximizing energy performance (Mayo Clinic). \nSpeakers:\n• Karen P. Butler\, EPA\n• Brett Gorden\, PE\, MBA\, Section Head – Facilities Management\, Mayo Clinic\n• Lee Shaver\, Energy Engineer\, Slipstream\n• Travis Michalke\, PE\, Senior Managing Consultant\, Building Energy Analytics\, ICF \nAttend this webinar if you’re interested in:\n• Performance-based energy targets\n• New construction\n• Energy use intensity
URL:https://smartbuildingscenter.org/remote-learning-event/performance-based-targets-for-commercial-new-construction-the-building-owners-perspective/
LOCATION:Virtual/Online
CATEGORIES:Benchmarking,Energy efficiency
END:VEVENT
BEGIN:VEVENT
DTSTART;TZID=America/Los_Angeles:20210126T100000
DTEND;TZID=America/Los_Angeles:20210126T110000
DTSTAMP:20260421T040036
CREATED:20210104T224731Z
LAST-MODIFIED:20210104T224731Z
UID:10000289-1611655200-1611658800@smartbuildingscenter.org
SUMMARY:A Beginner’s Guide to Using Portfolio Manager for Benchmarking Law Compliance
DESCRIPTION:Are you a building owner who needs to comply with a mandatory benchmarking requirement? Do you have little or no experience using EPA’s Portfolio Manager tool? \nYou’ve come to the right place! This webinar will serve as a beginner’s guide to Portfolio Manager and provide you with all the essential “how-to” information you need to start benchmarking and reporting your building data to your local or state government. Topics covered will include understanding how state and local jurisdictions use EPA’s Portfolio Manager tool to facilitate reporting\, setting up your Portfolio Manager account and properties\, entering energy data\, and reporting or sharing data with your jurisdiction. \nNOTE: Each jurisdiction has different requirements for compliance. This webinar will not address requirements specific to any one local or state government\, but will present general information on how to use Portfolio Manager and report data in the ways most commonly required under these laws. \nAttend this webinar if you’re interested in:\n• How to comply with a state or local benchmarking ordinance\n• Getting started using Portfolio Manager\n• Requesting energy and water data from your utility\n• Getting assistance from an ENERGY STAR service and product provider company\n• Responding to a data request\n• Sharing your property with a local jurisdiction for reporting \nLevel: Beginner
URL:https://smartbuildingscenter.org/remote-learning-event/a-beginners-guide-to-using-portfolio-manager-for-benchmarking-law-compliance/
LOCATION:Virtual/Online
CATEGORIES:Benchmarking,Energy efficiency
END:VEVENT
BEGIN:VEVENT
DTSTART;TZID=America/Los_Angeles:20200716T100000
DTEND;TZID=America/Los_Angeles:20200716T110000
DTSTAMP:20260421T040036
CREATED:20200707T184931Z
LAST-MODIFIED:20200707T184931Z
UID:10000241-1594893600-1594897200@smartbuildingscenter.org
SUMMARY:Next-Generation Building Performance Policies: Maximizing Energy Savings and Environmental Impacts
DESCRIPTION:Cities are deploying the next generation of building performance policies to maximize energy savings in buildings and meet the energy and environmental goals they have set. Come hear from leading cities regarding their strategies for policy design\, challenges and successes with implementation\, and early impacts from these policies. \nSpeakers: Dave Epley\, District of Columbia Department of Energy and the Environment; Rajiv Ravulapati\, City of St. Louis; Nicole Ballinger\, City of Seattle
URL:https://smartbuildingscenter.org/remote-learning-event/next-generation-building-performance-policies-maximizing-energy-savings-and-environmental-impacts/
LOCATION:Virtual/Online
CATEGORIES:Benchmarking,Building operations,Building tune-ups,Energy efficiency
END:VEVENT
BEGIN:VEVENT
DTSTART;TZID=America/Los_Angeles:20200618T080000
DTEND;TZID=America/Los_Angeles:20200618T090000
DTSTAMP:20260421T040036
CREATED:20200602T065822Z
LAST-MODIFIED:20200602T065822Z
UID:10000231-1592467200-1592470800@smartbuildingscenter.org
SUMMARY:Decarbonization Policy Framework: Building Policies
DESCRIPTION:Decarbonizing our building stock requires a comprehensive set of actions\, occurring in parallel and phased in over time\, across different sectors and levels of government. NEEP’s Building Decarbonization Public Policy Framework lays out the pathway. A successful transition to zero carbon [buildings] will require market transformation with advanced technological solutions\, and equitable and fair policy mechanisms. Critical policy areas include comprehensive state and utility policy\, building regulation\, and alignment with evaluation\, measurement\, and verification (EM&V). \nBuildings consume about two-thirds of the United States’ power supply and produce about 40 percent of carbon emissions nationwide. Existing buildings and buildings being constructed now will have a considerable impact on our region’s energy use 50 to 100 years from now. Therefore\, the built environment\, including residential\, commercial\, and public structures\, presents an opportunity to drastically reduce carbon emissions. During this webinar we will learn from best practices in building codes\, benchmarking and building standards\, and residential labeling.
URL:https://smartbuildingscenter.org/remote-learning-event/decarbonization-policy-framework-building-policies/
LOCATION:Virtual/Online
CATEGORIES:Benchmarking,Energy efficiency,Grid enabled buildings,Smart building technologies
END:VEVENT
END:VCALENDAR