BEGIN:VCALENDAR
VERSION:2.0
PRODID:-//Smart Buildings Center - ECPv6.15.20//NONSGML v1.0//EN
CALSCALE:GREGORIAN
METHOD:PUBLISH
X-WR-CALNAME:Smart Buildings Center
X-ORIGINAL-URL:https://smartbuildingscenter.org
X-WR-CALDESC:Events for Smart Buildings Center
REFRESH-INTERVAL;VALUE=DURATION:PT1H
X-Robots-Tag:noindex
X-PUBLISHED-TTL:PT1H
BEGIN:VTIMEZONE
TZID:America/Los_Angeles
BEGIN:DAYLIGHT
TZOFFSETFROM:-0800
TZOFFSETTO:-0700
TZNAME:PDT
DTSTART:20240310T100000
END:DAYLIGHT
BEGIN:STANDARD
TZOFFSETFROM:-0700
TZOFFSETTO:-0800
TZNAME:PST
DTSTART:20241103T090000
END:STANDARD
BEGIN:DAYLIGHT
TZOFFSETFROM:-0800
TZOFFSETTO:-0700
TZNAME:PDT
DTSTART:20250309T100000
END:DAYLIGHT
BEGIN:STANDARD
TZOFFSETFROM:-0700
TZOFFSETTO:-0800
TZNAME:PST
DTSTART:20251102T090000
END:STANDARD
BEGIN:DAYLIGHT
TZOFFSETFROM:-0800
TZOFFSETTO:-0700
TZNAME:PDT
DTSTART:20260308T100000
END:DAYLIGHT
BEGIN:STANDARD
TZOFFSETFROM:-0700
TZOFFSETTO:-0800
TZNAME:PST
DTSTART:20261101T090000
END:STANDARD
END:VTIMEZONE
BEGIN:VEVENT
DTSTART;TZID=America/Los_Angeles:20251105T080000
DTEND;TZID=America/Los_Angeles:20251105T170000
DTSTAMP:20260420T083720
CREATED:20250425T222730Z
LAST-MODIFIED:20250425T222730Z
UID:10000336-1762329600-1762362000@smartbuildingscenter.org
SUMMARY:SBX: Smart Buildings Exchange 2025!
DESCRIPTION:Connecting participants to the latest information and technologies in the smart buildings industry and showcasing smart buildings projects and initiatives in the U.S. \nSBX Conference
URL:https://smartbuildingscenter.org/remote-learning-event/sbx-smart-buildings-exchange-2025/
LOCATION:Virtual/Online
END:VEVENT
END:VCALENDAR